BEGIN:VCALENDAR
VERSION:2.0
CALSCALE:GREGORIAN
PRODID:-//MyApp//Calendar 1.0//EN
BEGIN:VEVENT
METHOD:PUBLISH
UID:52498@regionalniportaly.cz
DTSTAMP:20260422T204423Z
DTSTART;VALUE=DATE:20250620
DTEND;VALUE=DATE:20250621
SUMMARY:Roman Horký a Kamelot – „TO NEJLEPŠÍ OD KAMELOT“
DESCRIPTION:PO KONCERTU HRANÍ U STOLU SE SKUPINOU„STŘÍPKY Z DOBRÉ PARTY“V koncertu s názvem „TO NEJLEPŠÍ OD KAMELOT“ se Kamelot vrací ke skladbám zedvou úvodních alb a k písním složeným v letech 1981 až 1991. K období\, kterédalo Kamelotu alba Zachraňte koně\, Tajný výpravy a kdy se kapela zapsala dosrdcí tisíců posluchačů. Koncertní program tak bude složen z těchto dnes jižlegendárních skladeb jako Zachraňte koně\, Cikáni\, Amulet\, Čas rozchodů\, Psánona březové kůře\, Tajný výpravy\, Krajina větrných mlýnů\, Vzpomínka nakamaráda a dalších písní prvního desetiletí kapely\,s doplněním repertoárového listu o nejúspěšnější skladby z pozdějších let až po současnost.V muzice není&nbsp\;Roman Horký&nbsp\;stylově omezen\, nicméně\, jeho nejtypičtějším žánrem jsou trampské písně a folk-rock. Za svoji kariéru složil a otextoval přes tři sta písní. Je držitelem mnoha hudebních ocenění\, skupina&nbsp\;Kamelot&nbsp\;byla desetkrát vyhlášena Kapelou roku a její nahrávky byly třikrát oceněny jako Album roku\, natočil přes dvacet autorských alb\, z toho patnáct z nich bylo oceněno titulem Zlatá deska a dvě alba získala titul Platinová deska i Multiplatinová deska.
LOCATION:Střítež
END:VEVENT
END:VCALENDAR