BEGIN:VCALENDAR
VERSION:2.0
CALSCALE:GREGORIAN
PRODID:-//MyApp//Calendar 1.0//EN
BEGIN:VEVENT
METHOD:PUBLISH
UID:52510@regionalniportaly.cz
DTSTAMP:20260422T132026Z
DTSTART;VALUE=DATE:20250615
DTEND;VALUE=DATE:20250616
SUMMARY:Pohádková stezka /  TŘEBÍČ
DESCRIPTION:🎉 Nejoblíbenější pohádková stezka míří do Třebíče! 🎉Potkejte své oblíbené pohádkové kamarády!Na trase vás čekají zábavné úkoly pro děti a také setkání s vašimi oblíbenými pohádkovými kamarády\, jako jsou hrdinové z Tlapkové patroly\, Ledového království\, Máši a medvěda\, králíčka Binga a mnoha dalších\, které vaše děti zbožňují. ♥👧 Vhodné pro děti ve věku 2–7 let📅 Datum: 15. 06. 2025⏰ Čas: Najdete na své zakoupené vstupence📍 Místo: Naučná stezka Bažantnice\, Třebíč (ul. Bažantnice)🚩 Start: https://maps.app.goo.gl/yhrK5mM7furBDT78A👶 (Děti do 12 měsíců ZDARMA)Po příchodu se prosím zaregistrujte u našeho stánku. 🎪&nbsp\;‼️ Upozornění pro účastníky stezky: Poslední registrace probíhá od 11:50 do 12:10.⏰ Po 12:10 už není možné se zaregistrovat na stezku. Děkujeme za pochopení!&nbsp\;
LOCATION:Třebíč
END:VEVENT
END:VCALENDAR