BEGIN:VCALENDAR
VERSION:2.0
CALSCALE:GREGORIAN
PRODID:-//MyApp//Calendar 1.0//EN
BEGIN:VEVENT
METHOD:PUBLISH
UID:52720@regionalniportaly.cz
DTSTAMP:20260422T154940Z
DTSTART;VALUE=DATE:20250401
DTEND;VALUE=DATE:20250402
SUMMARY:Postradatelní
DESCRIPTION:Divadelní spolek Frída BrnoJakub Nvota: POSTRADATELNÍHrají: Martin Trnavský a Radim NovákRežie: Jakub Nvota\nKdo si pamatuje 90. léta? Naši dva hrdinové\, kteří se dnes náhodou setkali\, ano. Ty časy jsou už za nimi\, ale navždy je poznamenaly. Jak rozdělily jejich generaci? Dnes oba vzpomínají na dobu\, kdy začínali. Byli mladí\, draví\, měli sny a ideály… ale nejednou se pro ně vše překvapivě změnilo. Navíc je tu žena\, kterou si až příliš dobře pamatují. Kdyby jen věděli\, kde se právě teď nachází.Komedie o tom\, že nikdy není pozdě uvědomit si\, že už je pozdě.
LOCATION:Třebíč
END:VEVENT
END:VCALENDAR