BEGIN:VCALENDAR
VERSION:2.0
CALSCALE:GREGORIAN
PRODID:-//MyApp//Calendar 1.0//EN
BEGIN:VEVENT
METHOD:PUBLISH
UID:52721@regionalniportaly.cz
DTSTAMP:20260422T142721Z
DTSTART;VALUE=DATE:20250409
DTEND;VALUE=DATE:20250410
SUMMARY:Věra Martinová a Meritum
DESCRIPTION:Třebíčský koncert Věry Martinové a skupiny Meritum se koná jako součást jubilejního turné u příležitosti oslavy půlkulatých narozenin zpěvačky. Věra Martinová je výraznou osobností české hudební scény s nezaměnitelným stylem\, kterou jistě není třeba dlouze představovat. Byť je Věra Martinová často nazývána „první dámou české country“ či „stálicí domácí populární hudby“\, sama se cítí být především muzikantkou tělem a duší\, která je otevřena všem hudebním inspiracím a vlivům. Chce své posluchače i nadále příjemně překvapovat pěknými písničkami s kvalitními texty.\n \n \n 
LOCATION:Třebíč
END:VEVENT
END:VCALENDAR