BEGIN:VCALENDAR
VERSION:2.0
CALSCALE:GREGORIAN
PRODID:-//MyApp//Calendar 1.0//EN
BEGIN:VEVENT
METHOD:PUBLISH
UID:52722@regionalniportaly.cz
DTSTAMP:20260422T171757Z
DTSTART;VALUE=DATE:20250410
DTEND;VALUE=DATE:20250411
SUMMARY:294 Statečných
DESCRIPTION:Divadlo pod Palmovkou PrahaTomáš Dianiška: 294 STATEČNÝCHHrají: Kateřina Hrdinová\, Vojtěch Fülep / Denis Šafařík\, Gabriela Míčová\, Ivana Wojtylová\, Tomáš Vardan\, Jakub Albrecht / Tomáš Dianiška / Ondřej Veselý\, Jiří Panzner\, Jakub Tvrdík / Ondřej Bauer\, Barbora Kubátová\, Tereza Dočkalová / Barbora Kubátová\, Ivan Jiřík ad. Režie: Tomáš Dianiška\nDoku-fikční hra podle skutečné události o zákulisí největšího hrdinského činu našich dějin. Akční béčko o hrdinech operace Anthropoid. „Je třeba rozstřílet toho kata\, co sedí na hradě. Snad nám někdo spadne z nebe. Olda je řezník a dělá fantastické řízky. Aťa zbožňuje verneovky a až vyroste\, bude pistolníkem. Jindřiška se poprvé zamilovala a všimla si\, že tady v Libni to krásně voní. A všichni mají tajemství. Tatínek už strachem zešedivěl. Jak můžou být obyčejná děcka tak odvážná? Přitlučeme hřebíky na cepy a vymlátíme ty nácky! Hlavně ať nikdo nezradí\, jinak se Jindřiška nestihne zamilovat podruhé.“\nČasový harmonogram:19.00 - UDĚLENÍ ŘÁDU BÍLÉ KŘÍDY UČITELŮM19.30 - začátek představení
LOCATION:Třebíč
END:VEVENT
END:VCALENDAR