BEGIN:VCALENDAR
VERSION:2.0
CALSCALE:GREGORIAN
PRODID:-//MyApp//Calendar 1.0//EN
BEGIN:VEVENT
METHOD:PUBLISH
UID:52723@regionalniportaly.cz
DTSTAMP:20260422T154948Z
DTSTART;VALUE=DATE:20250415
DTEND;VALUE=DATE:20250416
SUMMARY:Beladona Quartet
DESCRIPTION:ZUZANA BALKÓOVÁ – 1. housle\, PATRICIE THEIMEROVÁ – 2. housle\, KLÁRA KUNC HEGNEROVÁ – viola\, PAVLA JAHODOVÁ – violoncello\nDámské smyčcové kvarteto Beladona Quartet uvede koncertní program od opery k muzikálu.
LOCATION:Třebíč
END:VEVENT
END:VCALENDAR