BEGIN:VCALENDAR
VERSION:2.0
CALSCALE:GREGORIAN
PRODID:-//MyApp//Calendar 1.0//EN
BEGIN:VEVENT
METHOD:PUBLISH
UID:53003@regionalniportaly.cz
DTSTAMP:20260422T131911Z
DTSTART;VALUE=DATE:20250614
DTEND;VALUE=DATE:20250615
SUMMARY:Bohemia Voice
DESCRIPTION:NEZAPOMENUTELNÝ HUDEBNÍ ZÁŽITEK!Zveme vás na jedinečný koncert Bohemia Voice&nbsp\;\, který rozezní nádherný barokní prostor kostela sv. Markéty v Jaroměřicích nad Rokytnou.Díky výjimečné akustice se z koncertu stane nezapomenutelný zážitek!&nbsp\;Buďte u toho!Těšíme se na vás!Předprodej vstupenek zahájen od 5. 4. 2025Kapacita kostela je omezená\, proto neváhejte se zakoupením vstupenky!!!
LOCATION:Jaroměřice nad Rokytnou
END:VEVENT
END:VCALENDAR