BEGIN:VCALENDAR
VERSION:2.0
CALSCALE:GREGORIAN
PRODID:-//MyApp//Calendar 1.0//EN
BEGIN:VEVENT
METHOD:PUBLISH
UID:53101@regionalniportaly.cz
DTSTAMP:20260422T142755Z
DTSTART;VALUE=DATE:20250614
DTEND;VALUE=DATE:20250615
SUMMARY:Slavnosti růžového vína 2025
DESCRIPTION:Na Slavnostech růžového vína v Třebíči o vás bude královsky postaráno. Přijďte si užít odpoledne jako v pohádce s lahodnými výběrovými víny z českých i moravských vinic a ochutnejte perly lokální i vzdálenější gastronomie. Namalujeme vaši sobotu na růžovo!
LOCATION:Třebíč
END:VEVENT
END:VCALENDAR