BEGIN:VCALENDAR
VERSION:2.0
CALSCALE:GREGORIAN
PRODID:-//MyApp//Calendar 1.0//EN
BEGIN:VEVENT
METHOD:PUBLISH
UID:53589@regionalniportaly.cz
DTSTAMP:20260422T142657Z
DTSTART;VALUE=DATE:20250519
DTEND;VALUE=DATE:20250520
SUMMARY:LiStOVáNí / Michal Kašpárek: Fosilie
DESCRIPTION:Tři generace\, každý jede to svoje? Že to znáte? Jasně\, kdo by ne. Fosilie je kousavý příběh Michala Kašpárka\, který přináší tři odlišné světonázory. Děda\, bývalý učitel tělocviku\, otec Vladimír\, ajťák ve středních letech\,&nbsp\; a dcera Julie\, radikální ekologická aktivistka – každý z nich přináší vlastní pohled na soužití v moderní společnosti. Umí spolu mluvit? Účinkují: Věra Hollá\, Lukáš Hejlík. Knihu vydalo nakladatelství Paseka v roce 2023.
LOCATION:Třebíč
END:VEVENT
END:VCALENDAR