BEGIN:VCALENDAR
VERSION:2.0
CALSCALE:GREGORIAN
PRODID:-//MyApp//Calendar 1.0//EN
BEGIN:VEVENT
METHOD:PUBLISH
UID:53776@regionalniportaly.cz
DTSTAMP:20260422T130748Z
DTSTART;VALUE=DATE:20250622
DTEND;VALUE=DATE:20250623
SUMMARY:Strauss 200
DESCRIPTION:Dokukoncert plný krásné hudby\, rozšířeného slova a projekce zdokumentuje životní osudy krále valčíků Johanna Strausse ml. Tento koncert je součástí série koncertů k 200. výročí jeho narození. V podání Komorního orchestru Filharmonie G. Mahlera Jihlava pod vedením Jiřího Jakeše zazní slavné valčíky Na krásním modrém Dunaji\, Císařský\, polky Na Vltavě\, Anenská\, Pizzicato či Bahn frei!\, zazní i mazurka Ženské srdce. A nakonec nebude chybět slavný Pochod Radeckého.Vstupenky v ceně 300&nbsp\;Kč lze zakoupit v recepci Zámeckého hotelu Valeč a v síti smsticket.cz.Koncert se koná s podporou Kraje Vysočina.
LOCATION:Valeč
END:VEVENT
END:VCALENDAR