BEGIN:VCALENDAR
VERSION:2.0
CALSCALE:GREGORIAN
PRODID:-//MyApp//Calendar 1.0//EN
BEGIN:VEVENT
METHOD:PUBLISH
UID:54253@regionalniportaly.cz
DTSTAMP:20260422T131949Z
DTSTART;VALUE=DATE:20250603
DTEND;VALUE=DATE:20250604
SUMMARY:Miloš Doležal a Karel Vepřek
DESCRIPTION:Miloš Doležal za hudebního doprovodu Karla VepřekaAutorské čtení Miloše Doležala\, na kterém představí svou novou knihu Buď připraven k udání! a sbírku básní Česká litanie.Karel Vepřek zpívá zhudebněné&nbsp\;verše I. M. Jirouse\, Bohuslava Reynka\, Jiřího Wolkera a dalších.
LOCATION:Třebíč
END:VEVENT
END:VCALENDAR