BEGIN:VCALENDAR
VERSION:2.0
CALSCALE:GREGORIAN
PRODID:-//MyApp//Calendar 1.0//EN
BEGIN:VEVENT
METHOD:PUBLISH
UID:54305@regionalniportaly.cz
DTSTAMP:20260422T114056Z
DTSTART;VALUE=DATE:20250627
DTEND;VALUE=DATE:20250628
SUMMARY:Konec školního roku s MATAMAR
DESCRIPTION:Do klubu ROXY&nbsp\;&nbsp\;dorazí jméno\, které hýbe taneční scénou – MATAMAR&nbsp\;Rezidenti pražského klubu Duplex a Evropy&nbsp\;&nbsp\;přijíždějí rozpumpovat Třebíč!Na taneční&nbsp\;&nbsp\;scéně si vybudovali nezpochybnitelnou pozici a to po celém Česku&nbsp\;\, Slovensku&nbsp\;&nbsp\;ale i v zahraničí. Dvakrát za sebou hráli na legendárním&nbsp\;&nbsp\;Ultra Europe ve Splitu&nbsp\;\, několikrát vystoupili v top klubech na chorvatské Zrce&nbsp\;\, v rakouském Pacha nebo v klubu 1900 Le Theatre ve Vietnamu&nbsp\;Jejich tracky&nbsp\;&nbsp\;a remixy\, na kterých spolupracovali třeba s&nbsp\;&nbsp\;Kapitánem Demem\, Adamem Mišíkem\, Sergeiem Barracudou\, Renne Dangem a dalšími\, vychází pod značkami jako Universal Music\, Blakkwood Records nebo Speedhouse Movement.Na Spotify mají přes&nbsp\;\,&nbsp\;milionu streamů – a teď to přijedou rozjet i do klubu ROXY!&nbsp\;Konec školního roku&nbsp\;&nbsp\;s MATAMAR &amp\; support's&nbsp\;
LOCATION:Třebíč
END:VEVENT
END:VCALENDAR