BEGIN:VCALENDAR
VERSION:2.0
CALSCALE:GREGORIAN
PRODID:-//MyApp//Calendar 1.0//EN
BEGIN:VEVENT
METHOD:PUBLISH
UID:54882@regionalniportaly.cz
DTSTAMP:20260422T154830Z
DTSTART;VALUE=DATE:20250602
DTEND;VALUE=DATE:20250603
SUMMARY:Jo Schneider
DESCRIPTION:Johanna Schneider (USA/D) – zpěv\, Rolf Langhans (D) – klávesy\, Petr Dvorský (CZ) – kontrabas\, Andy Winter (USA/D) – bicí\nCharismatická zpěvačka Johanna Schneider patří k mladým inovátorům\, kteří vzali jazz a blues za svou věc a dávají tradičním žánrům nové impulsy. Spojení Schneiderové s mezinárodní kapelou newyorského bubeníka Andyho Wintera je sázka na jistotu.\nZačátek v 19 hodin\nVstupné: 180\,-
LOCATION:Třebíč
END:VEVENT
END:VCALENDAR