BEGIN:VCALENDAR
VERSION:2.0
CALSCALE:GREGORIAN
PRODID:-//MyApp//Calendar 1.0//EN
BEGIN:VEVENT
METHOD:PUBLISH
UID:54955@regionalniportaly.cz
DTSTAMP:20260422T130214Z
DTSTART;VALUE=DATE:20250617
DTEND;VALUE=DATE:20250618
SUMMARY:Manon Lescaut - muzikál
DESCRIPTION:Muzikál s použitím dramatu Vítězslava Nezvala\, hudba Jindřich Brabec.Úprava podle Vladislava Čejchana\, scénář a režie Helena Nosková.Účinkují bývalí členové pěveckého sboru SLUNKO Třebíč a jako host Milan Noha
LOCATION:Třebíč
END:VEVENT
END:VCALENDAR