BEGIN:VCALENDAR
VERSION:2.0
CALSCALE:GREGORIAN
PRODID:-//MyApp//Calendar 1.0//EN
BEGIN:VEVENT
METHOD:PUBLISH
UID:54985@regionalniportaly.cz
DTSTAMP:20260421T223824Z
DTSTART;VALUE=DATE:20250925
DTEND;VALUE=DATE:20250926
SUMMARY:Kristián Šebek zpívá písně nejen Karla Gotta
DESCRIPTION:KRISTIÁN ŠEBEK&nbsp\;ZPÍVÁ PÍSNĚ NEJEN KARLA GOTTAPřijďte si užít večer plný emocí\, skvělé hudby a charismatického hlasu mladého talentovaného zpěváka Kristiána Šebka.Kristián Šebek zazpívá na halfplayback známé hity legendárního Karla Gotta i další oblíbené melodie v podání\, které pohladí po duši.
LOCATION:Jaroměřice nad Rokytnou
END:VEVENT
END:VCALENDAR