BEGIN:VCALENDAR
VERSION:2.0
CALSCALE:GREGORIAN
PRODID:-//MyApp//Calendar 1.0//EN
BEGIN:VEVENT
METHOD:PUBLISH
UID:55120@regionalniportaly.cz
DTSTAMP:20260421T194453Z
DTSTART;VALUE=DATE:20250712
DTEND;VALUE=DATE:20250713
SUMMARY:Netradiční noční prohlídky
DESCRIPTION:Srdečně vás zveme na netradiční noční prohlídky kostela sv. Markéty\, které přiblíží krásu barokního prostoru za svitu svíček\, hudby a zvuku&nbsp\;varhan.V letošním roce se také můžete těšit v rámci prohlídky na osvětlenou květinovou výzdobu\, verše a citáty nebo&nbsp\;setkání s hrabětem a hraběnkou.&nbsp\;&nbsp\;&nbsp\;Prohlídka je zakončena na osvětlené terase kostela.V čase netradičních nočních prohlídek bude také otevřena vyhlídková věž a farní kavárna.&nbsp\;Těšíme se na vaši návštěvu.&nbsp\;
LOCATION:Jaroměřice nad Rokytnou
END:VEVENT
END:VCALENDAR