BEGIN:VCALENDAR
VERSION:2.0
CALSCALE:GREGORIAN
PRODID:-//MyApp//Calendar 1.0//EN
BEGIN:VEVENT
METHOD:PUBLISH
UID:55148@regionalniportaly.cz
DTSTAMP:20260422T160842Z
DTSTART;VALUE=DATE:20251006
DTEND;VALUE=DATE:20251007
SUMMARY:Dracula - koncertní verze muzikálu
DESCRIPTION:KONCERTNÍ VERZE LEGENDÁRNÍHO MUZIKÁLU\n DraculaTento muzikál není třeba sáhodlouze představovat\, jedná se o nejúspěšnější český muzikál a i proto si vysloužil titul "českým muzikál století".\nMuzikál vznikl na námět Stokerova románu Drákula\, kterého se však drží jen velmi volně. Děj se odehrává v 15. století\, v 19. století a v neurčité blízké budoucnosti. Představovat více Draculu není třeba. V Třebíči se v rámci koncertní verze muzikálu rozezní písně Vím\, že jsi se mnou\, Nespravedlivý Bůh\, Jsi můj pán a další.\nÚčinkují:Daniel HůlkaJosef VágnerTomáš Trapl Kamila NývltováLinda Finková \n...v doprovodu taneční company
LOCATION:Třebíč
END:VEVENT
END:VCALENDAR