BEGIN:VCALENDAR
VERSION:2.0
CALSCALE:GREGORIAN
PRODID:-//MyApp//Calendar 1.0//EN
BEGIN:VEVENT
METHOD:PUBLISH
UID:55149@regionalniportaly.cz
DTSTAMP:20260421T194332Z
DTSTART;VALUE=DATE:20251019
DTEND;VALUE=DATE:20251020
SUMMARY:Rebelky - dívčí kapela
DESCRIPTION:Ahoj rebelky a rebelové! Jsme Sofi\, Agi\, Leyla a Naty – dívčí kapela Rebelky.Populární teens kapelaSilné sociální sítě (např. na instagramu naše reels dosahují i několika milionů zhlédnutí)Máme taneční choreografie na vysoké úrovni a originální kostýmyVystupujieme po celé republice (festivaly\, městské slavnosti\, adventy apod.)V hitparádě rádia junior (český rozhlas) jsme vyhrály 10x za sebou a dostaly se do síně slávyPro děti 7 – 14 let
LOCATION:Třebíč
END:VEVENT
END:VCALENDAR