BEGIN:VCALENDAR
VERSION:2.0
CALSCALE:GREGORIAN
PRODID:-//MyApp//Calendar 1.0//EN
BEGIN:VEVENT
METHOD:PUBLISH
UID:55152@regionalniportaly.cz
DTSTAMP:20260422T113729Z
DTSTART;VALUE=DATE:20250904
DTEND;VALUE=DATE:20250905
SUMMARY:Nadechnout se života
DESCRIPTION:NÁHRADNÍ TERMÍN ZA ZRUŠENÉ PŘEDSTAVENÍ 20. 3. 2025.Pokud vám náhradní termín nevyhovuje\, je možné jednotlivé vstupenky vrátit do 30. 4. 2025.Zakoupené vstupenky jsou v platnosti. DIVADLO UNGELT PRAHADavid Hare: NADECHNOUT SE ŽIVOTAHrají: Tereza Brodská\, Jitka SmutnáRežie: Pavel Ondruch\nManželka a milenka. Nastal čas osvobodit se od muže\, který je opustil. Psychologická hra slavného britského dramatika.            \nVstupné: 410 / 430 450\nZačátek v 19 hodin v Národním domě.         
LOCATION:Třebíč
END:VEVENT
END:VCALENDAR