BEGIN:VCALENDAR
VERSION:2.0
CALSCALE:GREGORIAN
PRODID:-//MyApp//Calendar 1.0//EN
BEGIN:VEVENT
METHOD:PUBLISH
UID:55153@regionalniportaly.cz
DTSTAMP:20260421T165649Z
DTSTART;VALUE=DATE:20251209
DTEND;VALUE=DATE:20251210
SUMMARY:Jordi Galcerán: ÚVĚR
DESCRIPTION:JT Promotion s.r.o. PlzeňJordi Galcerán: ÚVĚRHrají: Martin Zounar\, Filip Blažek. Režie: Antonín ProcházkaInteligentní komedie o tom\, že do finančních záležitostí se nemá nikdy zatahovat žena. Ředitel banky Gregorio má skvělý život\, lukrativní místo a krásnou ženu. Jednou razantně zamítne žádost o úvěr neodbytnému nesolventnímu žadateli Antoniovi a ten mu pohrozí\, že když nedostane úvěr\, svede jeho ženu. Má totiž značné svůdcovské schopnosti a nikdy mu žádná neodolala. Gregorio neustoupí\, ale raději zavolá své manželce\, aby si dala na Antonia pozor. Ta se urazí a nekompromisně Gregoria vyhodí z domu. Gregorio potřebuje ženu opět okouzlit\, ale chybějí mu svůdcovské schopnosti. A tak musí chtě nechtě požádat o pomoc zkušeného svůdníka Antonia...
LOCATION:Třebíč
END:VEVENT
END:VCALENDAR