BEGIN:VCALENDAR
VERSION:2.0
CALSCALE:GREGORIAN
PRODID:-//MyApp//Calendar 1.0//EN
BEGIN:VEVENT
METHOD:PUBLISH
UID:55424@regionalniportaly.cz
DTSTAMP:20260422T114032Z
DTSTART;VALUE=DATE:20250818
DTEND;VALUE=DATE:20250819
SUMMARY:Noc na Karlštejně
DESCRIPTION:Legendární příběh znovu ožívá v podobě výpravné verze muzikálu s hity Karla Svobody. Přijďte a vychutnejte si hity Lásko má já stůňu\, Asi do věží\, Hoja hoj a mnohé další písně od Karla Svobody a Jiřího Štaidla.\nDěj se odehrává za doby Karla IV. na právě postaveném hradě Karlštejně\, který se má stát místem klidu a odpočinku pro českého panovníka. Klid je však narušen nejen příjezdem bavorského vévody\, ale i porušením králova zákona\, který zakazuje ženám vstup na hrad. Během jedné noci se však na hradě nezávisle na sobě objevují hned dvě ženy\, neť purkrabího Alena a královna Alžběta.\nPředprodej od 16. 6. 2025
LOCATION:Třebíč
END:VEVENT
END:VCALENDAR