BEGIN:VCALENDAR
VERSION:2.0
CALSCALE:GREGORIAN
PRODID:-//MyApp//Calendar 1.0//EN
BEGIN:VEVENT
METHOD:PUBLISH
UID:56117@regionalniportaly.cz
DTSTAMP:20260422T114150Z
DTSTART;VALUE=DATE:20250919
DTEND;VALUE=DATE:20250920
SUMMARY:LiStOVáNí.cz: Matková patrola (Michaela Janečková)
DESCRIPTION:Listování podle knihy&nbsp\;Michaely Janečkové\, novinářky a autorky úspěšné knihy Třešně v rumu. Vydání knihy Matková patrola připravuje nakladatelství Grada.
LOCATION:Třebíč
END:VEVENT
END:VCALENDAR