BEGIN:VCALENDAR
VERSION:2.0
CALSCALE:GREGORIAN
PRODID:-//MyApp//Calendar 1.0//EN
BEGIN:VEVENT
METHOD:PUBLISH
UID:56308@regionalniportaly.cz
DTSTAMP:20260422T102732Z
DTSTART;VALUE=DATE:20251009
DTEND;VALUE=DATE:20251010
SUMMARY:Beseda s Alenou Mornštajnovou
DESCRIPTION:Beseda s jednou z nejoblíbenějších současných českých spisovatelek\, autorkou románů Slepá mapa\, Hotýlek\, Hana\, Tiché roky\, Listopád\, Les v&nbsp\;domě\, Čas vos a řady knih pro děti.Na místě bude možné knihy zakoupit a nechat si je autorkou podepsat.
LOCATION:Třebíč
END:VEVENT
END:VCALENDAR