BEGIN:VCALENDAR
VERSION:2.0
CALSCALE:GREGORIAN
PRODID:-//MyApp//Calendar 1.0//EN
BEGIN:VEVENT
METHOD:PUBLISH
UID:56497@regionalniportaly.cz
DTSTAMP:20260421T194253Z
DTSTART;VALUE=DATE:20250726
DTEND;VALUE=DATE:20250831
SUMMARY:Ať vám léto hraje do karet
DESCRIPTION:Skupina ČEZ ve svých infocentrech nabízí zážitky a rozšíření vědomostí ze zajímavého světa energetiky celoročně. Během letních prázdnin ale tradičně spouští ještě jednu aktivitu navíc. Na návštěvníky v informačním centru Dukovany a Dalešice čeká nová soutěž s názvem „Ať Vám léto hraje do karet“ o tematický a originální dárek.
LOCATION:Dukovany
END:VEVENT
END:VCALENDAR