BEGIN:VCALENDAR
VERSION:2.0
CALSCALE:GREGORIAN
PRODID:-//MyApp//Calendar 1.0//EN
BEGIN:VEVENT
METHOD:PUBLISH
UID:56532@regionalniportaly.cz
DTSTAMP:20260422T171703Z
DTSTART;VALUE=DATE:20251004
DTEND;VALUE=DATE:20251005
SUMMARY:Santini Telč
DESCRIPTION:HUDBA NAPŘÍČ STALETÍMIZveme vás na koncert smíšeného souboru Santini Telč\, který provede duchovní hudbou&nbsp\;od starých mistrů až po současné autory a rozezní nádherný barokní kostel sv. Markéty v Jaroměřicích nad Rokytnou.Těšíme se na vás!
LOCATION:Jaroměřice nad Rokytnou
END:VEVENT
END:VCALENDAR