BEGIN:VCALENDAR
VERSION:2.0
CALSCALE:GREGORIAN
PRODID:-//MyApp//Calendar 1.0//EN
BEGIN:VEVENT
METHOD:PUBLISH
UID:56535@regionalniportaly.cz
DTSTAMP:20260421T175004Z
DTSTART;VALUE=DATE:20251212
DTEND;VALUE=DATE:20251213
SUMMARY:Ceremony of Carols
DESCRIPTION:ÚČINKUJE:SILENTIUM! ensembleTereza Válková - sbormistr&nbsp\;PROGRAM:Traditional: God Rest Ye Merry\, Gentlemen\, Ch. Wesley: Hark! The Herald Angels Sing\, J.F. Wade: O Come\, All Ye Faithful\, hymnus: O Come\, O Come\, Emmanuel\, B. Britten: A Ceremony of Carols&nbsp\;Anglické tradiční koledy inspirací Brittenově nejznámější kantátě na text The English Galaxy of Shorter Poems v&nbsp\;dobové výslovnosti angličtiny.
LOCATION:Třebíč
END:VEVENT
END:VCALENDAR