BEGIN:VCALENDAR
VERSION:2.0
CALSCALE:GREGORIAN
PRODID:-//MyApp//Calendar 1.0//EN
BEGIN:VEVENT
METHOD:PUBLISH
UID:56536@regionalniportaly.cz
DTSTAMP:20260422T115327Z
DTSTART;VALUE=DATE:20251012
DTEND;VALUE=DATE:20251013
SUMMARY:Hudební večer s klarinetem mnoha tváří
DESCRIPTION:ÚČINKUJÍ:Petros Andreadis - klarinetKamil El-Ahmadieh - klavír&nbsp\;
LOCATION:Třebíč
END:VEVENT
END:VCALENDAR