BEGIN:VCALENDAR
VERSION:2.0
CALSCALE:GREGORIAN
PRODID:-//MyApp//Calendar 1.0//EN
BEGIN:VEVENT
METHOD:PUBLISH
UID:56538@regionalniportaly.cz
DTSTAMP:20260422T113955Z
DTSTART;VALUE=DATE:20250904
DTEND;VALUE=DATE:20250905
SUMMARY:Telemann: Moteta
DESCRIPTION:PROGRAM:G. P. Telemann: Der Herr ist König\, Selig sind die Toten\, Das ist meine Freude\, Halt\, was du hast aj.&nbsp\;ÚČINKUJÍ:SILENTIUM! ensembleSBORMISTR Tereza Válková&nbsp\;Marek Čermák - varhanní pozitivJán Prievozník - violonKateřina Maňáková - theorbaMichaela Koudelková - flétna&nbsp\;Více informacíTelemannova sborová tvorba není tak často prezentována&nbsp\;jako jeho hudba instrumentální\, přesto je neméně kvalitní a krásná. Přinášíme výběr z 34 motet pro sbor a continuo.&nbsp\;*SLEVYděti do 12 letstudenti po předložení průkazu ISICsenioři 60+držitelé průkazu ZTP a ZTP/P (průvodce zdarma)studenti a učitelé všech hudebních a uměleckých oborů – tuto slevu lze však uplatnit pouze fyzicky v předprodeji či na místě po prokázání studia/zaměstnání (průkaz studenta/učitele)
LOCATION:Třebíč
END:VEVENT
END:VCALENDAR