BEGIN:VCALENDAR
VERSION:2.0
CALSCALE:GREGORIAN
PRODID:-//MyApp//Calendar 1.0//EN
BEGIN:VEVENT
METHOD:PUBLISH
UID:56547@regionalniportaly.cz
DTSTAMP:20260422T115056Z
DTSTART;VALUE=DATE:20251111
DTEND;VALUE=DATE:20251112
SUMMARY:Elijah Wald (USA) - Blues Alive Tour
DESCRIPTION:Kytarista a zpěvák Elijah Wald se narodil v roce 1959 ve státě Massachusetts a už v raném věku propadl kouzlu folku a blues. Inspirován osobnostmi jako Woody Guthrie\, Mississippi John Hurt či Dave Van Ronk začal brzy veřejně vystupovat. Jeho zájem o tradiční i světovou hudbu ho přivedl ke studiu etnomuzikologie a k hlubšímu poznávání hudebních kultur napříč kontinenty.Hudební kariéru zahájil v 70. letech jako potulný busker – s kytarou procestoval celé Spojené státy i řadu dalších zemí. Hrál v kavárnách\, barech\, koncertních sálech i na velkých festivalech – od New Orleans po Chicago\, Tokio\, Salcburk nebo Sydney. Stylově se pohybuje mezi blues\, folkem\, ragtimem\, swingem\, country\, ale i mexickými corridos. Vydal několik autorských alb\, z nichž nejvýznamnější jsou Milk Cow Blues (1988)\, Street Corner Cowboys (1995) a Hitchhiking With the Blues (2000). Všechny nesou jeho typické znaky – mistrovskou kytarovou hru\, hlubokou znalost žánru a autentický přístup k hudební tradici.Wald je ale také ceněným publicistou a hudebním historikem. Jeho knihy jako Escaping the Delta: Robert Johnson and the Invention of the Blues nebo How the Beatles Destroyed Rock 'n' Roll: An Alternative History of American Popular Music nabízejí originální pohled na dějiny populární hudby. Jeho práce byla oceněna řadou odborných uznání\, včetně ceny Grammy za doprovodný text k CD box setu The Arhoolie Foundation.Zcela aktuální zajímavostí je Waldovo autorství knihy Dylan Goes Electric\, která se stala námětem pro nový film Bob Dylan: A Complete Unknown.Jeho vystoupení v rámci koncertní série Blues Alive Tour 2025 nabídne nejen výjimečný hudební zážitek\, ale i hluboký vhled do historie blues a folku – a do míst\, kde se hudba stává způsobem života.Součástí akce bude také jednorázová výstava Kořeny Blues I. věnovaná historickému\, hudebnímu a společenskému původu blues v Deltě Mississippi.
LOCATION:Třebíč
END:VEVENT
END:VCALENDAR