BEGIN:VCALENDAR
VERSION:2.0
CALSCALE:GREGORIAN
PRODID:-//MyApp//Calendar 1.0//EN
BEGIN:VEVENT
METHOD:PUBLISH
UID:56569@regionalniportaly.cz
DTSTAMP:20260421T224132Z
DTSTART;VALUE=DATE:20251009
DTEND;VALUE=DATE:20251010
SUMMARY:VYPRODÁNO / Beseda s Alenou Mornštajnovou
DESCRIPTION:Beseda s jednou z nejoblíbenějších současných českých spisovatelek\, autorkou románů Slepá mapa\, Hotýlek\, Hana\, Tiché roky\, Listopád\, Les v domě\, Čas vos a řady knih pro děti.\n \nAkce je vyprodaná. 
LOCATION:Třebíč
END:VEVENT
END:VCALENDAR