BEGIN:VCALENDAR
VERSION:2.0
CALSCALE:GREGORIAN
PRODID:-//MyApp//Calendar 1.0//EN
BEGIN:VEVENT
METHOD:PUBLISH
UID:56604@regionalniportaly.cz
DTSTAMP:20260422T130050Z
DTSTART;VALUE=DATE:20251015
DTEND;VALUE=DATE:20251016
SUMMARY:Blanka Šrůmová a Jan Sahara Hedl
DESCRIPTION:Zpěvačka BLANKA ŠRŮMOVÁ je známá hlavně díky indie-popovéskupině Tichá dohoda (1988–2013)\, se kterou vydala celkem 12 alb\, 2x bylanominována na Zpěvačku roku (Ceny Akademie 1993\, 94)\, jejíminejznámějšími hity se staly písně Marioneta a Večírek osamělých srdcí.JAN SAHARA HEDL je český zpěvák\, textař a písničkář\, vystupoval s DG307\, poté se svojí skupinou Duševní hrob\, je autorem např. jednoho zezásadních českých songů Tisíc jmen a zakladatel skupiny Precedens&nbsp\;sMartinem Němcem.
LOCATION:Třebíč
END:VEVENT
END:VCALENDAR