BEGIN:VCALENDAR
VERSION:2.0
CALSCALE:GREGORIAN
PRODID:-//MyApp//Calendar 1.0//EN
BEGIN:VEVENT
METHOD:PUBLISH
UID:57092@regionalniportaly.cz
DTSTAMP:20260421T194519Z
DTSTART;VALUE=DATE:20251115
DTEND;VALUE=DATE:20251116
SUMMARY:Tak to jsme ještě neviděli\, Marie
DESCRIPTION:Tak to jsme ještě neviděli\, MarieAutorské představení&nbsp\;Lukáše Langmajera &amp\; Libora Jeníka&nbsp\;Přijďte s námi prožít nezapomenutelnou divadelní revue\, která vás zavededo zákulisí hereckého života.Projdete s námi konkurzem na divadelní roli\, natáčením seriálu\, zpěvem\, tancem a improvizací na vaše vlastní návrhy.Ukážeme vám\, jak vzniká reklama\, jak probíhá talk show a co všechno obnáší stát se hercem.A to vše s námi!Nechte se vtáhnout do našich hereckých i životních eskapád\, protože&nbsp\;"smích zahřeje\, smích léčí".&nbsp\;Hrají:Lukáš Langmajer | LiborJeník | Lucia Jagerčíková Nývltová nebo Michaela ZemánkováDélka divadelní revue: 90 minut bez přestávky
LOCATION:Jaroměřice nad Rokytnou
END:VEVENT
END:VCALENDAR