BEGIN:VCALENDAR
VERSION:2.0
CALSCALE:GREGORIAN
PRODID:-//MyApp//Calendar 1.0//EN
BEGIN:VEVENT
METHOD:PUBLISH
UID:57355@regionalniportaly.cz
DTSTAMP:20260422T130135Z
DTSTART;VALUE=DATE:20250911
DTEND;VALUE=DATE:20250912
SUMMARY:Dámský krejčí
DESCRIPTION:DÁMSKÝ KREJČÍMalá lež je mrzká. Velká lež — to je umění!Ondřej Sokol&nbsp\;v legendární roli\, v níž zazářil i J. P. Belmondo.Legendární fraška&nbsp\;Dámský krejčí&nbsp\;z&nbsp\;Činoherního klubu&nbsp\;vás vezme na zběsilou jízdu a můžete ji zažít v knihovně! Co všechno se může stát\, když se po flámu snažíte zamaskovat nevěru a lžete jako když tiskne? Fraška plná převleků\, náhod a dokonale načasovaných nedorozumění. Ondřej Sokol jako zoufale vynalézavý doktor Moulineaux se zaplétá do laviny lží\, která mu nekompromisně přerůstá přes hlavu. Po jeho boku excelují Mahulena Bočanová\, Jaromír Dulava\, Radek Holub a další\, aby&nbsp\;vám ukázali\, co se stane\, když se pravda stane tou největší hrozbou. Vaše bránice&nbsp\;nebude mít šanci ani na chvíli vydechnout!&nbsp\;Autor: Georges FeydeauRežie: Martin ČičvákPřeklad: Michal LázňovskýDramatizace: Martin ČičvákScénografie: Tom CillerKostýmy: Nina A. StillmarkHrají: Ondřej Sokol\, Radek Holub\, Jaromír Dulava\, Matěj Dadák\, Mahulena Bočanová\,Barbora Seidlová\, Dana Černá\, Antonie Talacková\, Jana Břežková\, Markéta StehlíkováPremiéra: 21. 01. 2005
LOCATION:Třebíč
END:VEVENT
END:VCALENDAR