BEGIN:VCALENDAR
VERSION:2.0
CALSCALE:GREGORIAN
PRODID:-//MyApp//Calendar 1.0//EN
BEGIN:VEVENT
METHOD:PUBLISH
UID:57423@regionalniportaly.cz
DTSTAMP:20260422T130802Z
DTSTART;VALUE=DATE:20250918
DTEND;VALUE=DATE:20250919
SUMMARY:Balet Praha Junior
DESCRIPTION:Suity 3/4 celovečerní titul současného tanečního divadla.\nKomponovaný večer současného tanečního divadla\, choreografové Attila Egerházi\, Petr Zuska\, Šimon Kubáň a Vlasta Schneiderová si vybrali hudbu z naši národní "pokladnice" českých hudebních skladatelů: Bedřich Smetana\, Antonín Dvořák a Leoš Janáček. Interprety večera jsou členové souboru Balet Praha Junior.\nTaneční zpracování hudby českých skladatelů je cestou k hlubšímu pochopení konkrétních skladeb\, osloví tak kulturní – především velmi zkušenou hudební – veřejnost a představí jí magický svět tanečního divadla.\nCelková délka: 90 minut\, přestávka 20 min.
LOCATION:Třebíč
END:VEVENT
END:VCALENDAR