BEGIN:VCALENDAR
VERSION:2.0
CALSCALE:GREGORIAN
PRODID:-//MyApp//Calendar 1.0//EN
BEGIN:VEVENT
METHOD:PUBLISH
UID:57429@regionalniportaly.cz
DTSTAMP:20260421T084751Z
DTSTART;VALUE=DATE:20250930
DTEND;VALUE=DATE:20251001
SUMMARY:Vojta Nedvěd & Tie Break
DESCRIPTION:Vojta Nedvěd\, pokračovatel slavného folkového rodu Nedvědů\nPřijďte si poslechnout písně z nového alba i legendární hity jeho otce a strýce.Jako hudebník vystupuje Vojta Nedvěd aktivně už od roku 1992. Tehdy začal v kapele Dinosauři\, která byla inspirována formací Brontosauři bratří Nedvědů. Vojta sám působil v různých hudebních formacích\, které doprovázely jednoho či oba z bratří. V roce 2023 vydal Vojta Nedvěd svoje už třetí sólové album Maluju na nebe. Písně z něj budou v repertoáru těchto koncertů dominantní. Při koncertu Vojtu doprovodí baskytarista Milan Plechatý a multiinstrumentalista Petr Kocman\, kteří vystupovali už s Františkem Nedvědem od roku 2008 ve formaci Tie Break a po jeho odchodu dále vystupují i s Vojtou. 
LOCATION:Třebíč
END:VEVENT
END:VCALENDAR