BEGIN:VCALENDAR
VERSION:2.0
CALSCALE:GREGORIAN
PRODID:-//MyApp//Calendar 1.0//EN
BEGIN:VEVENT
METHOD:PUBLISH
UID:57430@regionalniportaly.cz
DTSTAMP:20260422T132035Z
DTSTART;VALUE=DATE:20250909
DTEND;VALUE=DATE:20250910
SUMMARY:Vrabčák a Anděl
DESCRIPTION:PŘEDSTAVENÍ K 20. VÝROČÍ OTEVŘENÍ DIVADLA PASÁŽ\nMĚSTSKÉ DIVADLO BRNODaniel Große Boymann\, Thomas Kahry: VRABČÁK A ANDĚL\nHrají: Hana Holišová / Markéta Sedláčková\, Ivana Vaňková / Katarína Mikulová\, Andrea Zelová / Eliška Skálová\, Barbora Remišová\, Alan Novotný\, Robert Jícha... Režie: Stanislav Moša\nEdith Piaf a Marlene Dietrich. Dvě velká jména světového šoubyznysu. První si svět podmanila svým zpěvem\, dojemným životním příběhem a nenápadným zjevem\, druhá okouzlovala svou krásou\, elegancí\, uhrančivým pohledem a byla jednou z prvních evropských\, respektive německých hereček\, která se dokázala prosadit v Hollywoodu. První celý život touží po opravdové velké lásce a novému citu vždy maximálně propadá\, ta druhá střídá muže (a snad i ženy) jako kabáty a nezastírá svůj cynický pohled na romantiku. První umírá vysílením v sedmačtyřiceti letech\, celá Francie pro ni truchlí\, druhá se dožívá úctyhodných jednadevadesáti let\, ale rodné Německo ji považuje za zrádce. Jsou natolik rozdílné\, ale přitom dokážou najít společný rytmus\, společná témata a dokonce i společnou lásku.\nHudební drama\, pohrávající si s osudy\, milostným příběhem a historií přátelství těchto nezapomenutelných žen podle námětu Davida Winterberga\, mělo premiéru v roce 2014 ve vídeňském Burgtheatru\, kde se setkalo s odzbrojujícím úspěchem. Není divu\, vždyť v průběhu inscenace zazní (samozřejmě naživo\, v podání hereček) téměř dvě desítky nesmrtelných písní obou protagonistek! Naše divadlo uvedlo tuto inscenaci v české premiéře 7. listopadu 2015 na Činoherní scéně v režijní koncepci Stanislava Moši\, pod hudebním vedením Karla Cóna a v režii Igora Ondříčka.\nUpozornění: V představení se používají tabákové výrobky.
LOCATION:Třebíč
END:VEVENT
END:VCALENDAR