BEGIN:VCALENDAR
VERSION:2.0
CALSCALE:GREGORIAN
PRODID:-//MyApp//Calendar 1.0//EN
BEGIN:VEVENT
METHOD:PUBLISH
UID:57504@regionalniportaly.cz
DTSTAMP:20260422T113649Z
DTSTART;VALUE=DATE:20251020
DTEND;VALUE=DATE:20251021
SUMMARY:Bůh na bitevním poli
DESCRIPTION:Talkshow s Markem Orko Váchou a Sarah Haváčovou. Moderuje Eva FruhwirtováŽivot přináší situace\, které nás zkouší nejen navenek\, ale hlavně uvnitř – v hlavě a v srdci.&nbsp\;O tom\, jak hledat klid uprostřed chaosu a naději v těžkých chvílích\, budou mluvit dva hosté\, jejichž cesty se setkávají právě na poli víry\, odvahy a lidskosti – Marek Orko Vácha a Sarah Haváčová.&nbsp\;&nbsp\;Eva Fruhwirtová se bude ptát na to\, jak se nenechat semlít tlakem dnešní doby\, jak překonat vnitřní strachy a jak najít cestu k pokoji.&nbsp\;Marek Orko Vácha\, katolický kněz\, biolog a autor desítek knih\, se dlouhodobě věnuje otázkám etiky\, smyslu života i hledání Boha v dnešním světě. Přiblíží\, proč poutnictví a schopnost zastavit se patří mezi klíče k duševní rovnováze.Sarah Haváčová\, herečka a autorka autobiografie&nbsp\;Nečekat\, otevře téma osobní cesty k sobě samé – od duchovních zážitků v portugalské Fatimě až po dobrovolnickou práci v Tanzanii či na Ukrajině. Její příběhy ukazují\, jak služba druhým pomáhá zvládat vlastní krize a pečovat o duševní zdraví.
LOCATION:Třebíč
END:VEVENT
END:VCALENDAR