BEGIN:VCALENDAR
VERSION:2.0
CALSCALE:GREGORIAN
PRODID:-//MyApp//Calendar 1.0//EN
BEGIN:VEVENT
METHOD:PUBLISH
UID:57552@regionalniportaly.cz
DTSTAMP:20260422T114041Z
DTSTART;VALUE=DATE:20250911
DTEND;VALUE=DATE:20250912
SUMMARY:Dámský krejčí / Záznam divadelního představení
DESCRIPTION:NOVINKA! NEMŮŽETE DO DIVADLA? JE TU DRAMOX – ZÁZNAMY DIVADELNÍCH PŘEDSTAVENÍ \nDámský krejčí / Georges Feydeau / Úprava a režie Martin ČičvákÚspěšná komedie byla v repertoáru Činoherního klubu celých 20 let. Zveme na záznam představení v den derniéry 11. září 2025.\nČtvrtek 11. září 2025\, 19:30\, knihovna Hasskova. Vstupné 100 Kč v předprodeji\, 120 Kč na místě. Předprodej knihovna a www.smsticket.cz Doktor Moulinot je neuvěřitelný lhář\, který je ochotný pro zakrytí manželské nevěry udělat téměř cokoli\, neváhá se i vydávat za dámského krejčího. „Malá lež je mrzká\, ale velká lež\, to je umění!“\nHrají: Ondřej Sokol\, Radek Holub\, Jaromír Dulava\, Matěj Dadák\, Mahulena Bočanová\, Barbora Seidlová\, Dana Černá\, Antonie Talacková\, Jana Břežková\, Markéta Stehlíková
LOCATION:Třebíč
END:VEVENT
END:VCALENDAR