BEGIN:VCALENDAR
VERSION:2.0
CALSCALE:GREGORIAN
PRODID:-//MyApp//Calendar 1.0//EN
BEGIN:VEVENT
METHOD:PUBLISH
UID:57776@regionalniportaly.cz
DTSTAMP:20260422T113925Z
DTSTART;VALUE=DATE:20250918
DTEND;VALUE=DATE:20250919
SUMMARY:SUITY ¾: Balet Praha Junior přiveze do Třebíče poctu českým hudebním velikánům
DESCRIPTION:Třebíč zažije výjimečný večer\, jaký se v místním divadle nevidí každý den. Ve čtvrtek 18. září od 19 hodin vystoupí v Divadle Pasáž prestižní soubor Balet Praha Junior s tanečním představením SUITY ¾ – jedinečnou poctou největším českým hudebním skladatelům: Bedřichu Smetanovi\, Antonínu Dvořákovi a Leoši Janáčkovi.\nSpojení světoznámé hudby a současného tance nabídne třebíčskému publiku nejen silný umělecký zážitek\, ale i nevšední pohled na díla\, která máme hluboce zakořeněná v našem kulturním dědictví.\nZa choreografiemi stojí čtyři výrazné osobnosti české taneční scény – Attila Egerházi\, Petr Zuska\, Šimon Kubáň a Vlasta Schneiderová. Každý z nich přináší originální interpretaci hudby\, kterou všichni známe – ale možná ji ještě nikdy neviděli očima pohybu a emocí.\n„SUITY ¾ jsou jedinečným projektem\, který propojuje krásu české hudby s expresivitou současného tance\," říká Viktor Svidró\, umělecký šéf souboru. „Věřím\, že tímto večerem oslovíme jak milovníky tance\, tak i klasické hudby\, a představíme jim magický svět tanečního divadla v novém a neotřelém světle."\n \nNa co se můžete těšit?\n·       Pass-Ages / Z časů minulých – choreografie: Attila Egerházi\, hudba: Leoš Janáček\n·       Horizont událostí – choreografie: Šimon Kubáň\, hudba: Bedřich Smetana a Antonín Dvořák\n·       V mlhách – choreografie: Petr Zuska\, hudba: Leoš Janáček\n·       Zdálo se mi o Dvořákovi – choreografie: Vlasta Schneiderová\, hudba: Antonín Dvořák\n \nSUITY ¾\, středa 18. září 2025\, Divadlo Pasáž\, Třebíč\, začátek v 19:00\nVstupenky k zakoupení v pokladně divadla nebo online na \nDélka představení je 90 minut včetně 20 min. přestávky.\n 
LOCATION:Třebíč
END:VEVENT
END:VCALENDAR