BEGIN:VCALENDAR
VERSION:2.0
CALSCALE:GREGORIAN
PRODID:-//MyApp//Calendar 1.0//EN
BEGIN:VEVENT
METHOD:PUBLISH
UID:57991@regionalniportaly.cz
DTSTAMP:20260424T081305Z
DTSTART;VALUE=DATE:20251101
DTEND;VALUE=DATE:20251102
SUMMARY:Největší Studentský Halloween Třebíč
DESCRIPTION:Student Beats představuje: Největší studentský Halloween v Roxy Club\, Třebíč&nbsp\;Kdy: pátek 1. listopaduKde: Roxy Club\, TřebíčHeadliner:&nbsp\;nejznámější cz dj dvojice: MATAMARSupport: Thadeas and moreCo tě čeká:speciální halloween dekorace\, které tě vtáhnou do jiné dimenzeunikátní halloween drinky\, které ochutnáš jen jednou za rokneskutečná atmosféra\, jako nikde jinde&nbsp\;Levnější vstupné pro studenty!
LOCATION:Třebíč
END:VEVENT
END:VCALENDAR