BEGIN:VCALENDAR
VERSION:2.0
CALSCALE:GREGORIAN
PRODID:-//MyApp//Calendar 1.0//EN
BEGIN:VEVENT
METHOD:PUBLISH
UID:58154@regionalniportaly.cz
DTSTAMP:20260421T165625Z
DTSTART;VALUE=DATE:20260117
DTEND;VALUE=DATE:20260118
SUMMARY:Bára Basiková - komorní recitál s klavírem
DESCRIPTION:Srdečně vás zveme na&nbsp\;koncert v době adventní v podání úžasné zpěvačky&nbsp\;Báry Basikové s klavírním doprovodem&nbsp\;Prof. Luboše Přibyla.Přijďte se zaposlouchat do tónů klavíru a zpěvu Báry Basikové ve výjimečném prostoru\, jakým&nbsp\;je barokní Perla Vysočiny.&nbsp\;
LOCATION:Jaroměřice nad Rokytnou
END:VEVENT
END:VCALENDAR