BEGIN:VCALENDAR
VERSION:2.0
CALSCALE:GREGORIAN
PRODID:-//MyApp//Calendar 1.0//EN
BEGIN:VEVENT
METHOD:PUBLISH
UID:58338@regionalniportaly.cz
DTSTAMP:20260422T234627Z
DTSTART;VALUE=DATE:20260808
DTEND;VALUE=DATE:20260809
SUMMARY:BURLESQUE REVOLUTION
DESCRIPTION:&nbsp\;BURLESQUE REVOLUTION: Burleska je svobodaEmoce\, třpytky\, zábava. Smyslnost\, přítomnost\, transformace. Glamour jako zbraň a sebevědomí jako rozhodnutí.Burleska je svoboda. Čím bude pro tebe? Bude to revoluce\, nebo evoluce?V rozhovorech\, na workshopech nebo prostě u kávy léta předávám to\, čím je a může být burleska. Teď jsem to všechno dala do jedné show&nbsp\;BURLESQUE REVOLUTION. Show o všem\, čím burleska je – a čím se pro tebe může stát.Uvidíš dvoudílný milostný dopis věnovaný burlesce a umění\, plný tance\, burlesky\, zpěvu a zábavy. Nech se překvapit a pozor: na burlesce vzniká závislost.Přijď na nové burleskní představení z dílny Zorya Blue a rodiny Blue Burlesque Shows.Show má 140 minut\, včetně jedné pauzy. Během pauzy můžete navštívit náš burleskní stánek\, kde si můžete kousek burlesky odnést domů.Účinkují:Zorya Blue&nbsp\;– performerka\, producentka a lektorka burlesky\, podcasterka\, která se zabývá tématem intimity a sebevědomí. Přednáší na konferencích\, učí ženy sebevědomí a snaží se ukázat\, že burleska si zaslouží své místo na kulturní mapě.Lila Mae&nbsp\;– slovenská umělkyně působící především v Rakousku a Česku\, kterou můžete nejčastěji vidět v produkcích Cirque Rouge a Blue Burlesque Show. Jako vystudovaná divadelní kritička čerpá ve své tvorbě z různých uměleckých směrů a historických období.Edelweiss&nbsp\;– umělkyně pocházející z Ukrajiny\, kde vystudovala taneční konzervatoř. Její jméno Edelweiss – květ lásky\, známý jako protěž alpská. Ve svém umění propojuje nejen různé taneční styly\, ale i fireshow. Její přítomnost na scéně je čistá energie\, od které nelze odtrhnout oči.Petrana&nbsp\;– zpívá od svých 4 let\, navštěvovala také folklorní soubory jako tanečnice i zpěvačka. Vystudovala Soukromou konzervatoř v Košicích a následně JAMU v Brně\, obor muzikálové herectví. Můžete ji vidět hrát v Městském divadle v Brně\, Národním divadle moravskoslezském v Ostravě\, na zájezdech s Divadlem Scéna\, ale především je stálou součástí Blue Burlesque Show.Hostka&nbsp\;– na každou show zveme jednu hostující burlesku z Česka nebo okolních států.Režie\, produkce a scénář:&nbsp\;Zorya BlueChoreografie:&nbsp\;Lila Mae\, Edelweiss\, Zorya Blue&nbsp\;Show je určena&nbsp\;výhradně pro publikum starší 18 let&nbsp\;- vstup osobám mladším 18 let není povolenUpozornění pro divákyTato inscenace obsahuje světelné efekty\, včetně stroboskopických záblesků a rychle se měnících světelných sekvencí. U osob s fotosenzitivní epilepsií nebo zvýšenou citlivostí na intenzivní světelné podněty mohou tyto efekty vyvolat nepříznivé zdravotní reakce. Divákům\, kterých by se tato skutečnost mohla týkat\, se doporučuje zvýšená opatrnost.
LOCATION:Brno
END:VEVENT
END:VCALENDAR