BEGIN:VCALENDAR
VERSION:2.0
CALSCALE:GREGORIAN
PRODID:-//MyApp//Calendar 1.0//EN
BEGIN:VEVENT
METHOD:PUBLISH
UID:58358@regionalniportaly.cz
DTSTAMP:20260421T101217Z
DTSTART;VALUE=DATE:20250928
DTEND;VALUE=DATE:20250929
SUMMARY:Svatováclavský koncert
DESCRIPTION:
LOCATION:Třebíč
END:VEVENT
END:VCALENDAR