BEGIN:VCALENDAR
VERSION:2.0
CALSCALE:GREGORIAN
PRODID:-//MyApp//Calendar 1.0//EN
BEGIN:VEVENT
METHOD:PUBLISH
UID:58415@regionalniportaly.cz
DTSTAMP:20260421T194218Z
DTSTART;VALUE=DATE:20251219
DTEND;VALUE=DATE:20251220
SUMMARY:Morčata na útěku\, Fo3 | Třebíč
DESCRIPTION:Tradiční vánoční setkání s Morčaty na útěku v třebíčském klubu Roxy. Tentokrát s sebou přivezou budějovickou kapelu Fo3 (Fotři)\, kteří kloubí otcovství rock'n'rollem...
LOCATION:Třebíč
END:VEVENT
END:VCALENDAR