BEGIN:VCALENDAR
VERSION:2.0
CALSCALE:GREGORIAN
PRODID:-//MyApp//Calendar 1.0//EN
BEGIN:VEVENT
METHOD:PUBLISH
UID:58738@regionalniportaly.cz
DTSTAMP:20260421T195515Z
DTSTART;VALUE=DATE:20260110
DTEND;VALUE=DATE:20260111
SUMMARY:Galakoncert HOUSLE & AKORDEON J. Svěcený\, M. Laštovičková
DESCRIPTION:Srdečně vás zveme na galakoncert jižanských rytmů v podání&nbsp\;houslisty JAROSLAVA SVĚCENÉHO&nbsp\;za nevšedního doprovodu akordeonu\, který rozezní MARKÉTA LAŠTOVIČKOVÁ.&nbsp\;Přijďte se zaposlouchat do propojení tónů houslí a akordeonu pod mistrovskými prsty v tak&nbsp\;výjimečném prostoru\, jakým je barokní Perla Vysočiny.&nbsp\;Předprodej vstupenek od 4. října 2025 online přes portál smsticket a na pokladně kostela.&nbsp\;
LOCATION:Jaroměřice nad Rokytnou
END:VEVENT
END:VCALENDAR