BEGIN:VCALENDAR
VERSION:2.0
CALSCALE:GREGORIAN
PRODID:-//MyApp//Calendar 1.0//EN
BEGIN:VEVENT
METHOD:PUBLISH
UID:58816@regionalniportaly.cz
DTSTAMP:20260421T175027Z
DTSTART;VALUE=DATE:20251018
DTEND;VALUE=DATE:20251019
SUMMARY:Zmrazovač - Il Congelatore
DESCRIPTION:Zmrazovač - Il Congelatore\nOpera mafia o 3 dějstvích\n \nKočovné divadlo Ad Hoc https://www.divadloadhoc.cz/zmrazovac-il-congelatore/\n \nHrají: Adam Caha\, Zdeněk Melín\, Dominika Jíchová\, Jiří Vedral\, Klára Šidlová\, Kateřina Fafílková\, Petr Mikulka\, Lukáš Habanec\, Anežka Habancová\, František Hrubý / Veronika Galdová\, Jan Duchek\n \nDivadelní hra Il Congelatore vtáhne publikum do USA za podivných časů prohibice. Ve třech jednáních vypráví o osudech dobře etablovaného mafiánského klanu a sleduje cesty přistěhovalců v Novém světě.\n \nKOMEDIÁLNÍ OPERNÍ DRAMA plné napětí a morálních dilemat je prošpikováno hudebním géniem Verdiho\, Pucciniho\, Leoncavala\, Bizeta a dalších mistrů. Romance a akce\, živý orchestr\, mrtvé mrtvoly. Přežijte v časech kmotrů a možná přijde i happy end. V sále je přísně zakázána konzumace zmrzliny!
LOCATION:Třebíč
END:VEVENT
END:VCALENDAR