BEGIN:VCALENDAR
VERSION:2.0
CALSCALE:GREGORIAN
PRODID:-//MyApp//Calendar 1.0//EN
BEGIN:VEVENT
METHOD:PUBLISH
UID:58994@regionalniportaly.cz
DTSTAMP:20260421T194355Z
DTSTART;VALUE=DATE:20260129
DTEND;VALUE=DATE:20260130
SUMMARY:Monika Absolonová & Vlastní band – NOVOROČNÍ KONCERT
DESCRIPTION:Exkluzivní novoroční koncert&nbsp\;Moniky Absolonové plný svátečních melodií ze&nbsp\;zlaté desky Až do nebes. V&nbsp\;rámci večera zazní důvěrně známé a oblíbené&nbsp\;písně v&nbsp\;podání&nbsp\;zpěvačky s&nbsp\;výjimečným hlasem&nbsp\;za doprovodu&nbsp\;pianisty Ondřeje Hájka a sboristů&nbsp\;Andrey&nbsp\;Holé a&nbsp\;Ondřeje&nbsp\;Izdného.&nbsp\;Těšit se můžete i na skladby z&nbsp\;muzikálových představení\, kterých se trojnásobná bronzová Slavice a držitelka dvou&nbsp\;Cen Thálie&nbsp\;zhostila nejen na pražských divadelních prknech. Ve vystoupení plném&nbsp\;emocí&nbsp\;nebudou chybět ani&nbsp\;osvědčené hity&nbsp\;ze zpěvaččina repertoáru&nbsp\;a ani písně z&nbsp\;aktuálního&nbsp\;alba LÁSKA.&nbsp\;&nbsp\;
LOCATION:Jaroměřice nad Rokytnou
END:VEVENT
END:VCALENDAR