BEGIN:VCALENDAR
VERSION:2.0
CALSCALE:GREGORIAN
PRODID:-//MyApp//Calendar 1.0//EN
BEGIN:VEVENT
METHOD:PUBLISH
UID:59520@regionalniportaly.cz
DTSTAMP:20260421T205508Z
DTSTART;VALUE=DATE:20251129
DTEND;VALUE=DATE:20251130
SUMMARY:LiStOVáNí.cz: Herec (Josef Kubáník)
DESCRIPTION:Poslední letošní představení z oblíbeného cyklus scénických čtení&nbsp\;LiStOVáNí.&nbsp\;Skutečný příběh\, který se může stát i vám! Jan je známý\, slávou zkažený i unavený herec. Když mu v telefonu omylem přistane smska z neznámého čísla\, využije toho k nezávaznému klábosení s dívkou\, která o něm nic neví a on si tak nemusí na nic hrát! Konverzace s bystrou a vtipnou Martinou se ale brzy změní v napínavou psychologickou šarádu a tvrdý stalking.&nbsp\;Kdo z těch dvou je lepším hercem\, kdo si tu s kým hraje a kdo je jen hračkou?&nbsp\;&nbsp\;Účinkují: Tomáš Drápela a Zuzana Valešová
LOCATION:Třebíč
END:VEVENT
END:VCALENDAR