BEGIN:VCALENDAR
VERSION:2.0
CALSCALE:GREGORIAN
PRODID:-//MyApp//Calendar 1.0//EN
BEGIN:VEVENT
METHOD:PUBLISH
UID:59529@regionalniportaly.cz
DTSTAMP:20260421T175102Z
DTSTART;VALUE=DATE:20251121
DTEND;VALUE=DATE:20251122
SUMMARY:Kdyby tisíc klarinetů
DESCRIPTION:Ve válce mlčí múzy\, pokud se ale stane zázrak\, změní se zbraně na hudební nástroje. Úžasná hudební komedie\, kde poprvé zazněly písně Pramínek vlasů\, Je nebezpečné dotýkat se hvězd\, Babeta\, Tereza a další hity Semaforu. Inscenace vznikla na motivy stejnojmenného legendárního muzikálu Jiřího Suchého a Jiřího Šlitra\, který se stal kultovní klasikou. Západočeské divadlo v Chebu spolu s Karlovarským městským divadlem vytvořili kabaretní inscenaci s humorem a ironií\, plnou melodií\, které dodnes rezonují. Živá kapela v podání Big Bandu Karlovy Vary přímo na jevišti přináší slavnou hru v poetice Semaforu pro dnešního diváka. Divadelní zážitek\, který Vás pobaví\, dojme a připomene\, že i v těžkých časech se dá bojovat písničkou a nadhledem.
LOCATION:Třebíč
END:VEVENT
END:VCALENDAR