BEGIN:VCALENDAR
VERSION:2.0
CALSCALE:GREGORIAN
PRODID:-//MyApp//Calendar 1.0//EN
BEGIN:VEVENT
METHOD:PUBLISH
UID:59985@regionalniportaly.cz
DTSTAMP:20260421T222932Z
DTSTART;VALUE=DATE:20251125
DTEND;VALUE=DATE:20251126
SUMMARY:Vienesse Tuning Times
DESCRIPTION:„Na křídlech baroka a klasicismu“ \n IVA TÁBORSKÁ – zpěv\, mezzosoprán\, SEBASTIAN BRETTFELD – violoncello\, VALÉRIE CHOMANIČOVÁ – viola\nMelodie vetkané do věčnosti\, vznešené tóny baroka a elegance klasicismu. Okouzlující pěvecké árie a virtuózní instrumentální duety z pokladů starých mistrů.\n \nII. koncert KPH
LOCATION:Třebíč
END:VEVENT
END:VCALENDAR